BEGIN:VCALENDAR
VERSION:2.0
PRODID:-//hacksw/handcal//NONSGML v1.0//EN
BEGIN:VEVENT
SUMMARY:Coupe de France 2026
UID:c1cba224-666a-4800-9bd0-c0c8b3199ff7
DTSTART:20260404T220000Z
DTEND:20260406T220000Z
LOCATION:Localisation   
CATEGORIES:Sportif
STATUS:
DESCRIPTION:<p>Bravo a notre equipe coachee par Jean-Pierre pour ce
 superbe parcours en coupe de France, stopee au 4 eme tour face a la
 Baule !</p>
 
 <p> </p>
 
 <p> </p>
URL;VALUE=URI:https://sautronpetanque.sportsregions.fr/evenements/2026/04/05/coupe-de-france-2026-2438807
END:VEVENT
END:VCALENDAR
