BEGIN:VCALENDAR
VERSION:2.0
PRODID:-//hacksw/handcal//NONSGML v1.0//EN
BEGIN:VEVENT
SUMMARY:CDC Veterans D3
UID:b5e6e9d4-0e2c-4f7d-bc3b-a447395bc344
DTSTART:20260413T220000Z
DTEND:20260414T220000Z
LOCATION:Localisation   
CATEGORIES:Sportif
STATUS:
DESCRIPTION:<p>R1: victoire contre la Turballe 28/8</p>
URL;VALUE=URI:https://sautronpetanque.sportsregions.fr/evenements/2026/04/14/cdc-veterans-d3-2441527
END:VEVENT
END:VCALENDAR
