BEGIN:VCALENDAR
VERSION:2.0
PRODID:-//hacksw/handcal//NONSGML v1.0//EN
BEGIN:VEVENT
SUMMARY:CDC Veterans D4
UID:9efb8bc7-c58a-4050-981e-56bb82ee0419
DTSTART:20260413T220000Z
DTEND:20260414T220000Z
LOCATION:Localisation   
CATEGORIES:Sportif
STATUS:
DESCRIPTION:<p>Un blanc en R1</p>
URL;VALUE=URI:https://sautronpetanque.sportsregions.fr/evenements/2026/04/14/cdc-veterans-d4-2441531
END:VEVENT
END:VCALENDAR
